BEGIN:VCALENDAR
VERSION:2.0
PRODID:-//Studievereniging IDent - ECPv6.8.3//NONSGML v1.0//EN
CALSCALE:GREGORIAN
METHOD:PUBLISH
X-ORIGINAL-URL:https://svident.nl
X-WR-CALDESC:Evenementen voor Studievereniging IDent
REFRESH-INTERVAL;VALUE=DURATION:PT1H
X-Robots-Tag:noindex
X-PUBLISHED-TTL:PT1H
BEGIN:VTIMEZONE
TZID:Europe/Paris
BEGIN:DAYLIGHT
TZOFFSETFROM:+0100
TZOFFSETTO:+0200
TZNAME:CEST
DTSTART:20250330T010000
END:DAYLIGHT
BEGIN:STANDARD
TZOFFSETFROM:+0200
TZOFFSETTO:+0100
TZNAME:CET
DTSTART:20251026T010000
END:STANDARD
END:VTIMEZONE
BEGIN:VEVENT
DTSTART;TZID=Europe/Paris:20251203T200000
DTEND;TZID=Europe/Paris:20251203T220000
DTSTAMP:20260423T123948
CREATED:20251117T113359Z
LAST-MODIFIED:20251117T113647Z
UID:1660-1764792000-1764799200@svident.nl
SUMMARY:Lasergamen
DESCRIPTION:🔫✨ LASERGAMEN IS TERUG! ✨🔫\nRicht\, schiet… en win! \nAltijd al willen lasergamen én onbeperkt drinken? 🎱🍻 Dit is je kans om samen met sv. IDent weer keihard te knallen in de arena! \n📍 Locatie: De Tapperij\, Hengelo\n🗓️ Datum: woensdag 3 december 2025\n🕗 Aanvang: vanaf 20:00 uur\n💸 Prijs: ongeveer €25\,- p.p.\n📝 Aanmelden: 19 november vanaf 15:00 uur (Tot uiterlijk 26 november 23:59 uur)  \nMaak je klaar voor adrenaline\, neonlichten en rivaliteit op het hoogste niveau. Vorm teams\, daag je vrienden uit en laat zien wie de échte sharpshooter is. 🌌🔫 Tussendoor is er uiteraard tijd om te chillen met een drankje en de mogelijkheid om gratis te poolen! \n⚠️ Let op: deze activiteit is 18+ ⚠️ \nBen jij er klaar voor om de overwinning binnen te halen? See you in the battlefield! 💥🔥
URL:https://svident.nl/event/lasergamen/
LOCATION:Pastoriestraat 33\, 7551 DJ Hengelo
ATTACH;FMTTYPE=image/jpeg:https://svident.nl/wp-content/uploads/2025/11/lasergamen.jpg
END:VEVENT
END:VCALENDAR