BEGIN:VCALENDAR
VERSION:2.0
PRODID:-//Studievereniging IDent - ECPv6.8.3//NONSGML v1.0//EN
CALSCALE:GREGORIAN
METHOD:PUBLISH
X-WR-CALNAME:Studievereniging IDent
X-ORIGINAL-URL:https://svident.nl
X-WR-CALDESC:Evenementen voor Studievereniging IDent
REFRESH-INTERVAL;VALUE=DURATION:PT1H
X-Robots-Tag:noindex
X-PUBLISHED-TTL:PT1H
BEGIN:VTIMEZONE
TZID:Europe/Paris
BEGIN:DAYLIGHT
TZOFFSETFROM:+0100
TZOFFSETTO:+0200
TZNAME:CEST
DTSTART:20250330T010000
END:DAYLIGHT
BEGIN:STANDARD
TZOFFSETFROM:+0200
TZOFFSETTO:+0100
TZNAME:CET
DTSTART:20251026T010000
END:STANDARD
END:VTIMEZONE
BEGIN:VEVENT
DTSTART;VALUE=DATE:20250919
DTEND;VALUE=DATE:20250922
DTSTAMP:20260423T222731
CREATED:20250825T140031Z
LAST-MODIFIED:20250825T170338Z
UID:1472-1758240000-1758499199@svident.nl
SUMMARY:Ledenweekend
DESCRIPTION:🌲🔥 LEDENWEEKEND🎉🍻\nHet nieuwe studiejaar is begonnen\, tijd om elkaar écht beter te leren kennen! Daarom gaan we van 19 t/m 21 september met z’n allen op avontuur tijdens het ledenweekend in Nijverdal. 🏡✨ \nVerwacht een weekend vol leuke activiteiten\, lekker eten\, gezelligheid en natuurlijk genoeg tijd om nieuwe mensen te ontmoeten. Of je nou eerstejaars bent\, al langer lid bent\, of nog twijfelt\, dit is dé kans om de vereniging (en je mede-studenten) nog beter te leren kennen. 🙌 \n📅 19 t/m 21 september 2025\n⏰ Heel weekend\n📍 Nijverdal\n💸 ± €60\,- \nMeld je snel aan via de volgende Google Forms: \nhttps://forms.gle/U8EGKhXE3uVoVTio6
URL:https://svident.nl/event/ledenweekend/
LOCATION:Nijverdal
ATTACH;FMTTYPE=image/jpeg:https://svident.nl/wp-content/uploads/2025/08/Ledenweekend-opzetje.jpg
END:VEVENT
END:VCALENDAR